Package: lute Version: 1.5.0 Command: F:\biocbuild\bbs-3.22-bioc\R\bin\R.exe CMD INSTALL lute StartedAt: 2025-07-22 16:54:49 -0400 (Tue, 22 Jul 2025) EndedAt: 2025-07-22 16:55:40 -0400 (Tue, 22 Jul 2025) EllapsedTime: 51.0 seconds RetCode: 0 Status: OK