Package: lute Version: 1.5.0 Command: chmod a+r lute -R && F:\biocbuild\bbs-3.22-bioc\R\bin\R.exe CMD build --keep-empty-dirs --no-resave-data lute StartedAt: 2025-07-22 20:03:02 -0400 (Tue, 22 Jul 2025) EndedAt: 2025-07-22 20:04:33 -0400 (Tue, 22 Jul 2025) EllapsedTime: 91.2 seconds RetCode: 0 Status: OK PackageFile: lute_1.5.0.tar.gz PackageFileSize: 2.178 MiB