Package: lute Version: 1.5.0 Command: rm -rf lute.buildbin-libdir && mkdir lute.buildbin-libdir && F:\biocbuild\bbs-3.22-bioc\R\bin\R.exe CMD INSTALL --build --library=lute.buildbin-libdir lute_1.5.0.tar.gz StartedAt: 2025-07-23 09:27:16 -0400 (Wed, 23 Jul 2025) EndedAt: 2025-07-23 09:28:38 -0400 (Wed, 23 Jul 2025) EllapsedTime: 82.2 seconds RetCode: 0 Status: OK PackageFile: lute_1.5.0.zip PackageFileSize: 2.042 MiB