Package: lute Version: 1.5.0 Command: rm -rf lute.buildbin-libdir && mkdir lute.buildbin-libdir && /Users/biocbuild/BBS/utils/build-universal.sh lute_1.5.0.tar.gz /Library/Frameworks/R.framework/Resources/bin/R lute.buildbin-libdir StartedAt: 2025-07-13 22:21:50 -0400 (Sun, 13 Jul 2025) EndedAt: 2025-07-13 22:22:03 -0400 (Sun, 13 Jul 2025) EllapsedTime: 13.3 seconds RetCode: 0 Status: OK PackageFile: lute_1.5.0.tgz PackageFileSize: 2.093 MiB