Package: lumi Version: 2.61.0 Command: /home/biocbuild/R/R/bin/R CMD build --keep-empty-dirs --no-resave-data lumi StartedAt: 2025-07-18 00:46:56 -0000 (Fri, 18 Jul 2025) EndedAt: 2025-07-18 00:46:59 -0000 (Fri, 18 Jul 2025) EllapsedTime: 3.0 seconds RetCode: 0 Status: OK PackageFile: lumi_2.61.0.tar.gz PackageFileSize: 8.033 MiB