Package: lumi Version: 2.61.0 Command: F:\biocbuild\bbs-3.22-bioc\R\bin\R.exe CMD INSTALL lumi StartedAt: 2025-07-14 17:05:51 -0400 (Mon, 14 Jul 2025) EndedAt: 2025-07-14 17:07:28 -0400 (Mon, 14 Jul 2025) EllapsedTime: 96.9 seconds RetCode: 0 Status: OK