Package: lumi Version: 2.61.0 Command: chmod a+r lumi -R && F:\biocbuild\bbs-3.22-bioc\R\bin\R.exe CMD build --keep-empty-dirs --no-resave-data lumi StartedAt: 2025-07-14 20:03:00 -0400 (Mon, 14 Jul 2025) EndedAt: 2025-07-14 20:03:15 -0400 (Mon, 14 Jul 2025) EllapsedTime: 15.4 seconds RetCode: 0 Status: OK PackageFile: lumi_2.61.0.tar.gz PackageFileSize: 8.033 MiB