Package: lumi Version: 2.61.0 Command: /home/biocbuild/bbs-3.22-bioc/R/bin/R CMD INSTALL lumi StartedAt: 2025-07-16 16:11:06 -0400 (Wed, 16 Jul 2025) EndedAt: 2025-07-16 16:12:06 -0400 (Wed, 16 Jul 2025) EllapsedTime: 60.1 seconds RetCode: 0 Status: OK