Package: lumi Version: 2.61.0 Command: /Library/Frameworks/R.framework/Resources/bin/R CMD INSTALL lumi StartedAt: 2025-07-14 15:58:20 -0400 (Mon, 14 Jul 2025) EndedAt: 2025-07-14 15:59:09 -0400 (Mon, 14 Jul 2025) EllapsedTime: 48.7 seconds RetCode: 0 Status: OK