Package: lumi Version: 2.61.0 Command: /Library/Frameworks/R.framework/Resources/bin/R CMD check --install=check:lumi.install-out.txt --library=/Library/Frameworks/R.framework/Resources/library --no-vignettes --timings lumi_2.61.0.tar.gz StartedAt: 2025-07-14 21:39:46 -0400 (Mon, 14 Jul 2025) EndedAt: 2025-07-14 21:47:56 -0400 (Mon, 14 Jul 2025) EllapsedTime: 490.5 seconds RetCode: 0 Status: WARNINGS CheckDir: lumi.Rcheck Warnings: 3