Package: lumi Version: 2.61.0 Command: /Library/Frameworks/R.framework/Resources/bin/R CMD INSTALL lumi StartedAt: 2025-07-14 15:31:14 -0400 (Mon, 14 Jul 2025) EndedAt: 2025-07-14 15:31:35 -0400 (Mon, 14 Jul 2025) EllapsedTime: 21.2 seconds RetCode: 0 Status: OK