Package: lumi Version: 2.61.0 Maintainer: Lei Huang MaintainerEmail: lhuang1998 at gmail.com git_url: https://git.bioconductor.org/packages/lumi git_branch: devel git_last_commit: 3b48271 git_last_commit_date: 2025-04-15 09:39:31 -0400 (Tue, 15 Apr 2025)