Package: lpsymphony Version: 1.37.0 Command: /home/biocbuild/R/R/bin/R CMD INSTALL lpsymphony StartedAt: 2025-07-21 20:20:04 -0000 (Mon, 21 Jul 2025) EndedAt: 2025-07-21 20:30:18 -0000 (Mon, 21 Jul 2025) EllapsedTime: 614.4 seconds RetCode: 0 Status: OK