Package: lpsymphony Version: 1.37.0 Command: /home/biocbuild/R/R/bin/R CMD build --keep-empty-dirs --no-resave-data lpsymphony StartedAt: 2025-07-22 00:43:56 -0000 (Tue, 22 Jul 2025) EndedAt: 2025-07-22 00:55:13 -0000 (Tue, 22 Jul 2025) EllapsedTime: 677.2 seconds RetCode: 0 Status: OK PackageFile: lpsymphony_1.37.0.tar.gz PackageFileSize: 7.272 MiB