Package: lpsymphony Version: 1.37.0 Command: chmod a+r lpsymphony -R && F:\biocbuild\bbs-3.22-bioc\R\bin\R.exe CMD build --keep-empty-dirs --no-resave-data lpsymphony StartedAt: 2025-07-24 20:14:27 -0400 (Thu, 24 Jul 2025) EndedAt: 2025-07-24 20:16:18 -0400 (Thu, 24 Jul 2025) EllapsedTime: 111.8 seconds RetCode: 0 Status: OK PackageFile: lpsymphony_1.37.0.tar.gz PackageFileSize: 11.43 MiB