Package: lpsymphony Version: 1.37.0 Command: rm -rf lpsymphony.buildbin-libdir && mkdir lpsymphony.buildbin-libdir && /Users/biocbuild/BBS/utils/build-universal.sh lpsymphony_1.37.0.tar.gz /Library/Frameworks/R.framework/Resources/bin/R lpsymphony.buildbin-libdir StartedAt: 2025-07-02 01:04:03 -0400 (Wed, 02 Jul 2025) EndedAt: 2025-07-02 01:18:51 -0400 (Wed, 02 Jul 2025) EllapsedTime: 888.6 seconds RetCode: 0 Status: OK PackageFile: lpsymphony_1.37.0.tgz PackageFileSize: 2.11 MiB