Package: lpNet Version: 2.41.0 Command: /home/biocbuild/R/R/bin/R CMD check --install=check:lpNet.install-out.txt --library=/home/biocbuild/R/R/site-library --no-vignettes --timings lpNet_2.41.0.tar.gz StartedAt: 2025-07-11 09:36:44 -0000 (Fri, 11 Jul 2025) EndedAt: 2025-07-11 09:37:22 -0000 (Fri, 11 Jul 2025) EllapsedTime: 38.0 seconds RetCode: 0 Status: WARNINGS CheckDir: lpNet.Rcheck Warnings: 1