Package: lpNet Version: 2.41.0 Command: /home/biocbuild/R/R/bin/R CMD build --keep-empty-dirs --no-resave-data lpNet StartedAt: 2025-07-08 00:26:22 -0000 (Tue, 08 Jul 2025) EndedAt: 2025-07-08 00:27:04 -0000 (Tue, 08 Jul 2025) EllapsedTime: 42.0 seconds RetCode: 0 Status: OK PackageFile: lpNet_2.41.0.tar.gz PackageFileSize: 298.2 KiB