Package: looking4clusters Version: 0.99.4 Command: /Library/Frameworks/R.framework/Resources/bin/R CMD check --install=check:looking4clusters.install-out.txt --library=/Library/Frameworks/R.framework/Resources/library --no-vignettes --timings looking4clusters_0.99.4.tar.gz StartedAt: 2025-10-06 20:13:14 -0400 (Mon, 06 Oct 2025) EndedAt: 2025-10-06 20:14:12 -0400 (Mon, 06 Oct 2025) EllapsedTime: 58.9 seconds RetCode: 0 Status: OK CheckDir: looking4clusters.Rcheck Warnings: 0