Package: logicFS Version: 2.29.0 Command: /home/biocbuild/R/R/bin/R CMD INSTALL logicFS StartedAt: 2025-07-14 20:14:31 -0000 (Mon, 14 Jul 2025) EndedAt: 2025-07-14 20:14:48 -0000 (Mon, 14 Jul 2025) EllapsedTime: 17.0 seconds RetCode: 0 Status: OK