Package: loci2path Version: 1.29.0 Command: /home/biocbuild/R/R/bin/R CMD INSTALL loci2path StartedAt: 2025-07-14 20:28:18 -0000 (Mon, 14 Jul 2025) EndedAt: 2025-07-14 20:28:33 -0000 (Mon, 14 Jul 2025) EllapsedTime: 15.2 seconds RetCode: 0 Status: OK