Package: loci2path Version: 1.29.0 Command: /home/biocbuild/R/R/bin/R CMD check --install=check:loci2path.install-out.txt --library=/home/biocbuild/R/R/site-library --no-vignettes --timings loci2path_1.29.0.tar.gz StartedAt: 2025-07-15 08:56:08 -0000 (Tue, 15 Jul 2025) EndedAt: 2025-07-15 08:57:44 -0000 (Tue, 15 Jul 2025) EllapsedTime: 96.1 seconds RetCode: 1 Status: ERROR CheckDir: loci2path.Rcheck Warnings: NA