Package: loci2path Version: 1.29.0 Command: /home/biocbuild/R/R/bin/R CMD build --keep-empty-dirs --no-resave-data loci2path StartedAt: 2025-07-15 00:36:30 -0000 (Tue, 15 Jul 2025) EndedAt: 2025-07-15 00:36:57 -0000 (Tue, 15 Jul 2025) EllapsedTime: 27.0 seconds RetCode: 0 Status: OK PackageFile: loci2path_1.29.0.tar.gz PackageFileSize: 572.2 KiB