Package: loci2path Version: 1.29.0 Command: F:\biocbuild\bbs-3.22-bioc\R\bin\R.exe CMD INSTALL loci2path StartedAt: 2025-07-18 15:44:36 -0400 (Fri, 18 Jul 2025) EndedAt: 2025-07-18 15:45:13 -0400 (Fri, 18 Jul 2025) EllapsedTime: 36.8 seconds RetCode: 0 Status: OK