Package: loci2path Version: 1.29.0 Command: chmod a+r loci2path -R && F:\biocbuild\bbs-3.22-bioc\R\bin\R.exe CMD build --keep-empty-dirs --no-resave-data loci2path StartedAt: 2025-07-18 20:03:25 -0400 (Fri, 18 Jul 2025) EndedAt: 2025-07-18 20:04:14 -0400 (Fri, 18 Jul 2025) EllapsedTime: 48.8 seconds RetCode: 0 Status: OK PackageFile: loci2path_1.29.0.tar.gz PackageFileSize: 532.4 KiB