Package: loci2path Version: 1.29.0 Command: rm -rf loci2path.buildbin-libdir && mkdir loci2path.buildbin-libdir && F:\biocbuild\bbs-3.22-bioc\R\bin\R.exe CMD INSTALL --build --library=loci2path.buildbin-libdir loci2path_1.29.0.tar.gz StartedAt: 2025-07-19 09:26:07 -0400 (Sat, 19 Jul 2025) EndedAt: 2025-07-19 09:26:52 -0400 (Sat, 19 Jul 2025) EllapsedTime: 44.8 seconds RetCode: 0 Status: OK PackageFile: loci2path_1.29.0.zip PackageFileSize: 731.8 KiB