Package: loci2path Version: 1.29.0 Command: /Library/Frameworks/R.framework/Resources/bin/R CMD INSTALL loci2path StartedAt: 2025-07-18 15:16:12 -0400 (Fri, 18 Jul 2025) EndedAt: 2025-07-18 15:16:29 -0400 (Fri, 18 Jul 2025) EllapsedTime: 16.7 seconds RetCode: 0 Status: OK