Package: lisaClust Version: 1.17.0 Command: chmod a+r lisaClust -R && F:\biocbuild\bbs-3.22-bioc\R\bin\R.exe CMD build --keep-empty-dirs --no-resave-data lisaClust StartedAt: 2025-07-24 20:13:45 -0400 (Thu, 24 Jul 2025) EndedAt: 2025-07-24 20:19:34 -0400 (Thu, 24 Jul 2025) EllapsedTime: 348.8 seconds RetCode: 0 Status: OK PackageFile: lisaClust_1.17.0.tar.gz PackageFileSize: 863 KiB