Package: lisaClust Version: 1.17.0 Command: rm -rf lisaClust.buildbin-libdir && mkdir lisaClust.buildbin-libdir && F:\biocbuild\bbs-3.22-bioc\R\bin\R.exe CMD INSTALL --build --library=lisaClust.buildbin-libdir lisaClust_1.17.0.tar.gz StartedAt: 2025-07-25 09:34:28 -0400 (Fri, 25 Jul 2025) EndedAt: 2025-07-25 09:35:20 -0400 (Fri, 25 Jul 2025) EllapsedTime: 51.6 seconds RetCode: 0 Status: OK PackageFile: lisaClust_1.17.0.zip PackageFileSize: 946 KiB