Package: lineagespot Version: 1.13.0 Command: /home/biocbuild/R/R/bin/R CMD INSTALL lineagespot StartedAt: 2025-07-14 21:01:26 -0000 (Mon, 14 Jul 2025) EndedAt: 2025-07-14 21:02:14 -0000 (Mon, 14 Jul 2025) EllapsedTime: 47.8 seconds RetCode: 0 Status: OK