Package: lineagespot Version: 1.13.0 Command: F:\biocbuild\bbs-3.22-bioc\R\bin\R.exe CMD INSTALL lineagespot StartedAt: 2025-07-24 16:52:57 -0400 (Thu, 24 Jul 2025) EndedAt: 2025-07-24 16:53:47 -0400 (Thu, 24 Jul 2025) EllapsedTime: 49.7 seconds RetCode: 0 Status: OK