Package: lineagespot Version: 1.13.0 Command: /Library/Frameworks/R.framework/Resources/bin/R CMD INSTALL lineagespot StartedAt: 2025-07-22 15:35:06 -0400 (Tue, 22 Jul 2025) EndedAt: 2025-07-22 15:35:56 -0400 (Tue, 22 Jul 2025) EllapsedTime: 50.2 seconds RetCode: 0 Status: OK