Package: lineagespot Version: 1.13.0 Command: /Library/Frameworks/R.framework/Resources/bin/R CMD check --install=check:lineagespot.install-out.txt --library=/Library/Frameworks/R.framework/Resources/library --no-vignettes --timings lineagespot_1.13.0.tar.gz StartedAt: 2025-07-22 21:40:02 -0400 (Tue, 22 Jul 2025) EndedAt: 2025-07-22 21:46:44 -0400 (Tue, 22 Jul 2025) EllapsedTime: 401.2 seconds RetCode: 0 Status: OK CheckDir: lineagespot.Rcheck Warnings: 0