Package: lineagespot Version: 1.13.0 Command: /Library/Frameworks/R.framework/Resources/bin/R CMD build --keep-empty-dirs --no-resave-data lineagespot StartedAt: 2025-07-22 17:19:03 -0400 (Tue, 22 Jul 2025) EndedAt: 2025-07-22 17:20:19 -0400 (Tue, 22 Jul 2025) EllapsedTime: 75.4 seconds RetCode: 0 Status: OK PackageFile: lineagespot_1.13.0.tar.gz PackageFileSize: 718.5 KiB