Package: lineagespot Version: 1.13.0 Command: rm -rf lineagespot.buildbin-libdir && mkdir lineagespot.buildbin-libdir && /Users/biocbuild/BBS/utils/build-universal.sh lineagespot_1.13.0.tar.gz /Library/Frameworks/R.framework/Resources/bin/R lineagespot.buildbin-libdir StartedAt: 2025-07-23 01:12:53 -0400 (Wed, 23 Jul 2025) EndedAt: 2025-07-23 01:13:47 -0400 (Wed, 23 Jul 2025) EllapsedTime: 54.2 seconds RetCode: 0 Status: OK PackageFile: lineagespot_1.13.0.tgz PackageFileSize: 766.8 KiB