Package: limpca Version: 1.5.0 Command: /home/biocbuild/bbs-3.22-bioc/R/bin/R CMD check --install=check:limpca.install-out.txt --library=/home/biocbuild/bbs-3.22-bioc/R/site-library --timings limpca_1.5.0.tar.gz StartedAt: 2025-07-18 23:36:58 -0400 (Fri, 18 Jul 2025) EndedAt: 2025-07-18 23:42:21 -0400 (Fri, 18 Jul 2025) EllapsedTime: 323.6 seconds RetCode: 0 Status: OK CheckDir: limpca.Rcheck Warnings: 0