Package: limpca Version: 1.5.0 Command: /Library/Frameworks/R.framework/Resources/bin/R CMD INSTALL limpca StartedAt: 2025-07-18 15:21:28 -0400 (Fri, 18 Jul 2025) EndedAt: 2025-07-18 15:22:01 -0400 (Fri, 18 Jul 2025) EllapsedTime: 32.5 seconds RetCode: 0 Status: OK