Package: limpca Version: 1.5.0 Command: /Library/Frameworks/R.framework/Resources/bin/R CMD build --keep-empty-dirs --no-resave-data limpca StartedAt: 2025-07-20 16:45:17 -0400 (Sun, 20 Jul 2025) EndedAt: 2025-07-20 16:46:07 -0400 (Sun, 20 Jul 2025) EllapsedTime: 49.6 seconds RetCode: 0 Status: OK PackageFile: limpca_1.5.0.tar.gz PackageFileSize: 5.166 MiB