Package: limpca Version: 1.5.0 Command: rm -rf limpca.buildbin-libdir && mkdir limpca.buildbin-libdir && /Users/biocbuild/BBS/utils/build-universal.sh limpca_1.5.0.tar.gz /Library/Frameworks/R.framework/Resources/bin/R limpca.buildbin-libdir StartedAt: 2025-07-18 22:27:16 -0400 (Fri, 18 Jul 2025) EndedAt: 2025-07-18 22:27:27 -0400 (Fri, 18 Jul 2025) EllapsedTime: 11.2 seconds RetCode: 0 Status: OK PackageFile: limpca_1.5.0.tgz PackageFileSize: 5.052 MiB