Package: limpca Version: 1.5.0 Maintainer: Manon Martin MaintainerEmail: manon.martin at uclouvain.be git_url: https://git.bioconductor.org/packages/limpca git_branch: devel git_last_commit: afb06e9 git_last_commit_date: 2025-04-15 13:35:42 -0400 (Tue, 15 Apr 2025)