Package: limmaGUI Version: 1.85.0 Command: F:\biocbuild\bbs-3.22-bioc\R\bin\R.exe CMD INSTALL limmaGUI StartedAt: 2025-07-01 15:25:30 -0400 (Tue, 01 Jul 2025) EndedAt: 2025-07-01 15:26:53 -0400 (Tue, 01 Jul 2025) EllapsedTime: 82.8 seconds RetCode: 0 Status: OK