Package: limmaGUI Version: 1.85.0 Command: rm -rf limmaGUI.buildbin-libdir && mkdir limmaGUI.buildbin-libdir && F:\biocbuild\bbs-3.22-bioc\R\bin\R.exe CMD INSTALL --build --library=limmaGUI.buildbin-libdir limmaGUI_1.85.0.tar.gz StartedAt: 2025-07-02 09:09:50 -0400 (Wed, 02 Jul 2025) EndedAt: 2025-07-02 09:10:44 -0400 (Wed, 02 Jul 2025) EllapsedTime: 54.0 seconds RetCode: 0 Status: OK PackageFile: limmaGUI_1.85.0.zip PackageFileSize: 5.897 MiB