Package: limmaGUI Version: 1.85.0 Command: /Library/Frameworks/R.framework/Resources/bin/R CMD INSTALL limmaGUI StartedAt: 2025-07-11 15:06:49 -0400 (Fri, 11 Jul 2025) EndedAt: 2025-07-11 15:07:22 -0400 (Fri, 11 Jul 2025) EllapsedTime: 32.6 seconds RetCode: 0 Status: OK