Package: limmaGUI Version: 1.85.0 Command: /Library/Frameworks/R.framework/Resources/bin/R CMD build --keep-empty-dirs --no-resave-data limmaGUI StartedAt: 2025-07-11 17:23:50 -0400 (Fri, 11 Jul 2025) EndedAt: 2025-07-11 17:24:29 -0400 (Fri, 11 Jul 2025) EllapsedTime: 38.8 seconds RetCode: 0 Status: OK PackageFile: limmaGUI_1.85.0.tar.gz PackageFileSize: 5.345 MiB