Package: limmaGUI Version: 1.85.0 Command: rm -rf limmaGUI.buildbin-libdir && mkdir limmaGUI.buildbin-libdir && /Users/biocbuild/BBS/utils/build-universal.sh limmaGUI_1.85.0.tar.gz /Library/Frameworks/R.framework/Resources/bin/R limmaGUI.buildbin-libdir StartedAt: 2025-07-12 01:02:59 -0400 (Sat, 12 Jul 2025) EndedAt: 2025-07-12 01:03:37 -0400 (Sat, 12 Jul 2025) EllapsedTime: 38.4 seconds RetCode: 0 Status: OK PackageFile: limmaGUI_1.85.0.tgz PackageFileSize: 5.958 MiB