Package: lfa Version: 2.9.0 Command: F:\biocbuild\bbs-3.22-bioc\R\bin\R.exe CMD INSTALL lfa StartedAt: 2025-07-20 15:20:16 -0400 (Sun, 20 Jul 2025) EndedAt: 2025-07-20 15:20:48 -0400 (Sun, 20 Jul 2025) EllapsedTime: 32.7 seconds RetCode: 0 Status: OK