Package: lfa Version: 2.9.0 Command: chmod a+r lfa -R && F:\biocbuild\bbs-3.22-bioc\R\bin\R.exe CMD build --keep-empty-dirs --no-resave-data lfa StartedAt: 2025-07-20 19:57:07 -0400 (Sun, 20 Jul 2025) EndedAt: 2025-07-20 19:57:32 -0400 (Sun, 20 Jul 2025) EllapsedTime: 24.5 seconds RetCode: 0 Status: OK PackageFile: lfa_2.9.0.tar.gz PackageFileSize: 341.4 KiB