Package: lfa Version: 2.9.0 Command: rm -rf lfa.buildbin-libdir && mkdir lfa.buildbin-libdir && F:\biocbuild\bbs-3.22-bioc\R\bin\R.exe CMD INSTALL --build --library=lfa.buildbin-libdir lfa_2.9.0.tar.gz StartedAt: 2025-07-21 09:20:50 -0400 (Mon, 21 Jul 2025) EndedAt: 2025-07-21 09:21:10 -0400 (Mon, 21 Jul 2025) EllapsedTime: 20.1 seconds RetCode: 0 Status: OK PackageFile: lfa_2.9.0.zip PackageFileSize: 521.6 KiB