Package: lfa Version: 2.9.0 Command: /Library/Frameworks/R.framework/Resources/bin/R CMD build --keep-empty-dirs --no-resave-data lfa StartedAt: 2025-07-17 17:18:47 -0400 (Thu, 17 Jul 2025) EndedAt: 2025-07-17 17:19:05 -0400 (Thu, 17 Jul 2025) EllapsedTime: 18.4 seconds RetCode: 0 Status: OK PackageFile: lfa_2.9.0.tar.gz PackageFileSize: 340.9 KiB