Package: lfa Version: 2.9.0 Command: /Library/Frameworks/R.framework/Resources/bin/R CMD INSTALL lfa StartedAt: 2025-07-18 15:03:04 -0400 (Fri, 18 Jul 2025) EndedAt: 2025-07-18 15:03:09 -0400 (Fri, 18 Jul 2025) EllapsedTime: 4.8 seconds RetCode: 0 Status: OK